BEGIN:VCALENDAR
VERSION:2.0
PRODID:-//ChamberMaster//Event Calendar 2.0//EN
METHOD:PUBLISH
X-PUBLISHED-TTL:P3D
REFRESH-INTERVAL:P3D
CALSCALE:GREGORIAN
BEGIN:VEVENT
DTSTART;VALUE=DATE:20091105
DTEND;VALUE=DATE:20091106
TRANSP:TRANSPARENT
X-MICROSOFT-CDO-ALLDAYEVENT:TRUE
SUMMARY:YMCA Community - Wide Beaufort 'PRAYER BREAKFAST'
DESCRIPTION:Join us for a morning of fellowship as we "Bring the Community Together in Prayer\nCost: Free and open to the public\nReservations are requried - ask for Tracy when you call to reserve\nRSVP by Monday\, November 2nd
X-ALT-DESC;FMTTYPE=text/html:Join us for a morning of fellowship as we "Bring the Community Together in Prayer\nCost: Free and open to the public\nReservations are requried - ask for Tracy when you call to reserve\nRSVP by Monday\, November 2nd
LOCATION:
UID:e.1212.3635
SEQUENCE:3
DTSTAMP:20260424T204744Z
URL:http://business.beaufortchamber.org/events/details/ymca-community-wide-beaufort-prayer-breakfast-11-05-2009-3635
END:VEVENT

END:VCALENDAR
