BEGIN:VCALENDAR
VERSION:2.0
PRODID:-//ChamberMaster//Event Calendar 2.0//EN
METHOD:PUBLISH
X-PUBLISHED-TTL:P3D
REFRESH-INTERVAL:P3D
CALSCALE:GREGORIAN
BEGIN:VEVENT
DTSTART;VALUE=DATE:20091030
DTEND;VALUE=DATE:20091031
TRANSP:TRANSPARENT
X-MICROSOFT-CDO-ALLDAYEVENT:TRUE
SUMMARY:YMCA - Halloween Party
DESCRIPTION:Come out for a family type Halloween party and have some "family time" fun !\nChildren of all ages and their parents are invited to participate in this event\nPumpkin carving\, games\, bounce houses\, balloon animals\, prizes\, popcorn and snow cones\nToddler area for the little ones and all children are encouraged to come in costume \nCost: Free and open to the public
X-ALT-DESC;FMTTYPE=text/html:Come out for a family type Halloween party and have some "family time" fun !\nChildren of all ages and their parents are invited to participate in this event\nPumpkin carving\, games\, bounce houses\, balloon animals\, prizes\, popcorn and snow cones\nToddler area for the little ones and all children are encouraged to come in costume \nCost: Free and open to the public
LOCATION:
UID:e.1212.3659
SEQUENCE:3
DTSTAMP:20260424T232849Z
URL:http://business.beaufortchamber.org/events/details/ymca-halloween-party-10-30-2009-3659
END:VEVENT

END:VCALENDAR
