BEGIN:VCALENDAR
VERSION:2.0
PRODID:-//ChamberMaster//Event Calendar 2.0//EN
METHOD:PUBLISH
X-PUBLISHED-TTL:P3D
REFRESH-INTERVAL:P3D
CALSCALE:GREGORIAN
BEGIN:VEVENT
DTSTART;VALUE=DATE:20091205
DTEND;VALUE=DATE:20091206
TRANSP:TRANSPARENT
X-MICROSOFT-CDO-ALLDAYEVENT:TRUE
SUMMARY:YMCA of Beaufort County - 2nd Annual Puppy Plunge
DESCRIPTION:Bring your friendly dog for a play day in the outdoor pool !\nDogs must be well behaved\, current on all vaccines and leashed until inside the pool area\nOwners must be present at all times\nCost: $5 per dog
X-ALT-DESC;FMTTYPE=text/html:Bring your friendly dog for a play day in the outdoor pool !\nDogs must be well behaved\, current on all vaccines and leashed until inside the pool area\nOwners must be present at all times\nCost: $5 per dog
LOCATION:
UID:e.1212.3690
SEQUENCE:3
DTSTAMP:20260424T193805Z
URL:http://business.beaufortchamber.org/events/details/ymca-of-beaufort-county-2nd-annual-puppy-plunge-12-05-2009-3690
END:VEVENT

END:VCALENDAR
