BEGIN:VCALENDAR
VERSION:2.0
PRODID:-//ChamberMaster//Event Calendar 2.0//EN
METHOD:PUBLISH
X-PUBLISHED-TTL:P3D
REFRESH-INTERVAL:P3D
CALSCALE:GREGORIAN
BEGIN:VEVENT
DTSTART;VALUE=DATE:20091112
DTEND;VALUE=DATE:20091113
TRANSP:TRANSPARENT
X-MICROSOFT-CDO-ALLDAYEVENT:TRUE
SUMMARY:YMCA of Beaufort County - Women's Safety Awarness & Self-Defense Class
DESCRIPTION:Learn how to protect yourself\nCost: $20 per person\nCost: $10 student\nPay on night of class
X-ALT-DESC;FMTTYPE=text/html:Learn how to protect yourself\nCost: $20 per person\nCost: $10 student\nPay on night of class
LOCATION:
UID:e.1212.3691
SEQUENCE:3
DTSTAMP:20260424T205810Z
URL:http://business.beaufortchamber.org/events/details/ymca-of-beaufort-county-women-s-safety-awarness-self-defense-class-11-12-2009-3691
END:VEVENT

END:VCALENDAR
