BEGIN:VCALENDAR
VERSION:2.0
PRODID:-//ChamberMaster//Event Calendar 2.0//EN
METHOD:PUBLISH
X-PUBLISHED-TTL:P3D
REFRESH-INTERVAL:P3D
CALSCALE:GREGORIAN
BEGIN:VEVENT
DTSTART;VALUE=DATE:20090201
DTEND;VALUE=DATE:20090202
TRANSP:TRANSPARENT
X-MICROSOFT-CDO-ALLDAYEVENT:TRUE
SUMMARY:York W. Bailey Museum
DESCRIPTION:Sam Doyle Folk Art Exhibit - original paintings by famous folk artist from St. Helena Island\, SC\n\nDaily self-guided tours - The Port Royal Experiment and the History of Penn School\n\nTickets: $7 adults\, $6 seniors\; for both the Sankofa and the York W. Bailey Museum\n\nFriday Film Series - 1pm (The Will to Survive\; Daughters of the Dust\; Family Across the Sea\; Robert Smalls: Civil War Hero)\;  Admission $5-adults\, $4-seniors\, $2-youth
X-ALT-DESC;FMTTYPE=text/html:Sam Doyle Folk Art Exhibit - original paintings by famous folk artist from St. Helena Island\, SC\n\nDaily self-guided tours - The Port Royal Experiment and the History of Penn School\n\nTickets: $7 adults\, $6 seniors\; for both the Sankofa and the York W. Bailey Museum\n\nFriday Film Series - 1pm (The Will to Survive\; Daughters of the Dust\; Family Across the Sea\; Robert Smalls: Civil War Hero)\;  Admission $5-adults\, $4-seniors\, $2-youth
LOCATION:
UID:e.1212.3007
SEQUENCE:3
DTSTAMP:20260425T112223Z
URL:http://business.beaufortchamber.org/events/details/york-w-bailey-museum-02-01-2009-3007
END:VEVENT

END:VCALENDAR
