BEGIN:VCALENDAR
VERSION:2.0
PRODID:-//ChamberMaster//Event Calendar 2.0//EN
METHOD:PUBLISH
X-PUBLISHED-TTL:P3D
REFRESH-INTERVAL:P3D
CALSCALE:GREGORIAN
BEGIN:VEVENT
DTSTART:20130519T190000Z
DTEND:20130519T210000Z
X-MICROSOFT-CDO-ALLDAYEVENT:FALSE
SUMMARY:Youth & Beaufort Symphony Orchestras Side bySide
DESCRIPTION:The Beaufort Orchestra's "Side by Side" Gala\n\n\n\nBeaufort Symphony Youth Orchestra in Combination with Beaufort Symphony Orchestra  Vivaldi Concerto for Four Violins\; Music from West Side Story\, Les Miserables\, Chicago\, Phatom of the Opera\, and a Salute to Satchmo\n\n\n\nAdults $20 Youth $5\n\nSunday\, May 19\, 2013\n\nBeaufort High Performing Arts Center\, Ladys Island
X-ALT-DESC;FMTTYPE=text/html:The Beaufort Orchestra&#39\;s &quot\;Side by Side&quot\; Gala<br />\n<br />\nBeaufort Symphony Youth Orchestra in Combination with Beaufort Symphony Orchestra&nbsp\; Vivaldi Concerto for Four Violins\; Music from West Side Story\, Les Miserables\, Chicago\, Phatom of the Opera\, and a Salute to Satchmo<br />\n<br />\nAdults $20 Youth $5<br />\nSunday\, May 19\, 2013<br />\nBeaufort High Performing Arts Center\, Ladys Island
LOCATION:Beaufort High Performing Arts Center\, Ladys Island
UID:e.1212.4993
SEQUENCE:3
DTSTAMP:20260422T031131Z
URL:http://business.beaufortchamber.org/events/details/youth-beaufort-symphony-orchestras-side-byside-05-19-2013-4993
END:VEVENT

END:VCALENDAR
