BEGIN:VCALENDAR
VERSION:2.0
PRODID:-//ChamberMaster//Event Calendar 2.0//EN
METHOD:PUBLISH
X-PUBLISHED-TTL:P3D
REFRESH-INTERVAL:P3D
CALSCALE:GREGORIAN
BEGIN:VEVENT
DTSTART;VALUE=DATE:20071114
DTEND;VALUE=DATE:20071115
TRANSP:TRANSPARENT
X-MICROSOFT-CDO-ALLDAYEVENT:TRUE
SUMMARY:2007 Regional Economic Outlook
DESCRIPTION:Hear first-hand about what's happening in our region and around the world that could impact your business. Mark Vitner\, senior Wachovia economist\, will speak on the general economic outlook of our region with a focus on local tourism and housing trends. Chad Moutray\, chief economist for the U.S. Small Business Administration\, will discuss national and local small business trends. Converse A. Chellis\, State Treasurer of South Carolina\, will discuss the SC Economic Climate\, highlighting how the economy affects state funding. RSVP BY NOVEMBER 9
X-ALT-DESC;FMTTYPE=text/html:Hear first-hand about what&rsquo\;s happening in our region and around the world that could impact your business. Mark Vitner\, senior Wachovia economist\, will speak on the general economic outlook of our region with a focus on local tourism and housing trends. Chad Moutray\, chief economist for the U.S. Small Business Administration\, will discuss national and local small business trends. Converse A. Chellis\, State Treasurer of South Carolina\, will discuss the SC Economic Climate\, highlighting how the economy affects state funding. <b>RSVP BY NOVEMBER 9</b>
LOCATION:Beaufort
UID:e.1212.1840
SEQUENCE:3
DTSTAMP:20260424T211430Z
URL:https://business.beaufortchamber.org/events/details/2007-regional-economic-outlook-11-14-2007-1840
END:VEVENT

END:VCALENDAR
