BEGIN:VCALENDAR
VERSION:2.0
PRODID:-//ChamberMaster//Event Calendar 2.0//EN
METHOD:PUBLISH
X-PUBLISHED-TTL:P3D
REFRESH-INTERVAL:P3D
CALSCALE:GREGORIAN
BEGIN:VEVENT
DTSTART;VALUE=DATE:20080124
DTEND;VALUE=DATE:20080125
TRANSP:TRANSPARENT
X-MICROSOFT-CDO-ALLDAYEVENT:TRUE
SUMMARY:2008 Annual Meeting - Beaufort Regional Chamber of Commerce
DESCRIPTION:Keynote: S.C. Superintendent of Education\, Jim Rex\; RSVP by January 16\; members $25\, after January 16 $35\; non-members $35\, after January 16 $45
X-ALT-DESC;FMTTYPE=text/html:<b>Keynote: S.C. Superintendent of Education\, Jim Rex</b>\; RSVP by January 16\; <i>members $25\, after January 16 $35\; non-members $35\, after January 16 $45</i>
LOCATION:Burton
UID:e.1212.1990
SEQUENCE:3
DTSTAMP:20260425T010526Z
URL:https://business.beaufortchamber.org/events/details/2008-annual-meeting-beaufort-regional-chamber-of-commerce-01-24-2008-1990
END:VEVENT

END:VCALENDAR
