BEGIN:VCALENDAR
VERSION:2.0
PRODID:-//ChamberMaster//Event Calendar 2.0//EN
METHOD:PUBLISH
X-PUBLISHED-TTL:P3D
REFRESH-INTERVAL:P3D
CALSCALE:GREGORIAN
BEGIN:VEVENT
DTSTART:20221013T220000Z
DTEND:20221014T000000Z
X-MICROSOFT-CDO-ALLDAYEVENT:FALSE
SUMMARY:2022 Civitas Awards Reception
DESCRIPTION:Tickets are now on sale for the prestigious Civitas Awards Reception\, held annually by the Chamber to recognize individuals and businesses in our region that enhance economic prosperity.
X-ALT-DESC;FMTTYPE=text/html:Tickets are now on sale for the prestigious Civitas Awards Reception\, held annually by the Chamber to recognize individuals and businesses in our region that enhance economic prosperity.
LOCATION:Rooftop at Old Bay Marketplace
UID:e.1212.13281
SEQUENCE:3
DTSTAMP:20260425T002220Z
URL:https://business.beaufortchamber.org/events/details/2022-civitas-awards-reception-13281
END:VEVENT

END:VCALENDAR
