BEGIN:VCALENDAR
VERSION:2.0
PRODID:-//ChamberMaster//Event Calendar 2.0//EN
METHOD:PUBLISH
X-PUBLISHED-TTL:P3D
REFRESH-INTERVAL:P3D
CALSCALE:GREGORIAN
BEGIN:VEVENT
DTSTART:20230609T193000Z
DTEND:20230609T210000Z
X-MICROSOFT-CDO-ALLDAYEVENT:FALSE
SUMMARY:2023 Legislative Reception
DESCRIPTION:SOLD OUT!!\n\n\n\nJoin us for the 2023 annual Legislative Reception -- a premier social event and opportunity to hear what was accomplished in Legislative Session. Members of the Delegation and all local councils will be in attendance to network with Chamber members and business leaders.
X-ALT-DESC;FMTTYPE=text/html:SOLD OUT!!<br />\n<br />\nJoin us for the 2023 annual Legislative Reception -- a premier social event and opportunity to hear what was accomplished in Legislative Session. Members of the Delegation and all local councils will be in attendance to network with Chamber members and business leaders.
LOCATION:New location for 2023! The Legislative Reception will be held at Shellring Ale Works in Port Royal\, overlooking Battery Creek\, allowing for a "Lowcountry Casual" setting. 1111 11th Street
UID:e.1212.13380
SEQUENCE:3
DTSTAMP:20260424T114627Z
URL:https://business.beaufortchamber.org/events/details/2023-legislative-reception-13380
END:VEVENT

END:VCALENDAR
