BEGIN:VCALENDAR
VERSION:2.0
PRODID:-//ChamberMaster//Event Calendar 2.0//EN
METHOD:PUBLISH
X-PUBLISHED-TTL:P3D
REFRESH-INTERVAL:P3D
CALSCALE:GREGORIAN
BEGIN:VEVENT
DTSTART:20250228T130000Z
DTEND:20250228T150000Z
X-MICROSOFT-CDO-ALLDAYEVENT:FALSE
SUMMARY:2025 State of the Community
DESCRIPTION:On February 28\, 2025\, leaders from around the region will gather at the in the Dataw Island Carolina Ballroom for our first annual State of the Community   a special networking event that shares the latest data about our region\, bright spots in our local economy\, and insight from a panel of experts on today's most pressing issues. This is a great opportunity to gather information\, make connections and have the knowledge to position your business for success in 2025.\n\nThe event includes a delicious breakfast with ticket purchase.
X-ALT-DESC;FMTTYPE=text/html:<div>\n<p style="box-sizing: border-box\; margin: 0px\; padding: 0px 0px 1em\; border: 0px\; outline: 0px\; font-size: 15px\; text-size-adjust: 100%\; vertical-align: baseline\; background-image: initial\; background-position: initial\; background-size: initial\; background-repeat: initial\; background-attachment: initial\; background-origin: initial\; background-clip: initial\; color: rgb(102\, 102\, 102)\; font-family: Montserrat\, Helvetica\, Arial\, Lucida\, sans-serif\;">On February 28\, 2025\, leaders from around the region will gather at the in the Dataw Island Carolina Ballroom for our first annual State of the Community &ndash\; a special networking event that shares the latest data about our region\, bright spots in our local economy\, and insight from a panel of experts on today&rsquo\;s most pressing issues. This is a great opportunity to gather information\, make connections and have the knowledge to position your business for success in 2025.</p>\n\n<p style="box-sizing: border-box\; margin: 0px\; padding: 0px 0px 1em\; border: 0px\; outline: 0px\; font-size: 15px\; text-size-adjust: 100%\; vertical-align: baseline\; background-image: initial\; background-position: initial\; background-size: initial\; background-repeat: initial\; background-attachment: initial\; background-origin: initial\; background-clip: initial\; color: rgb(102\, 102\, 102)\; font-family: Montserrat\, Helvetica\, Arial\, Lucida\, sans-serif\;">The event includes a delicious breakfast with ticket purchase.</p>\n</div>\n
LOCATION:Dataw Island Carolina Ballroom 100 Dataw Club Drive\, Dataw Island\, SC 29920
UID:e.1212.14062
SEQUENCE:3
DTSTAMP:20260425T195716Z
URL:https://business.beaufortchamber.org/events/details/2025-state-of-the-community-14062
END:VEVENT

END:VCALENDAR
