BEGIN:VCALENDAR
VERSION:2.0
PRODID:-//ChamberMaster//Event Calendar 2.0//EN
METHOD:PUBLISH
X-PUBLISHED-TTL:P3D
REFRESH-INTERVAL:P3D
CALSCALE:GREGORIAN
BEGIN:VEVENT
DTSTART:20241122T223000Z
DTEND:20241123T003000Z
X-MICROSOFT-CDO-ALLDAYEVENT:FALSE
SUMMARY:23rd Annual Beaufort Homes for the Holidays Candlelight Tour
DESCRIPTION:Join us for the 23rd Beaufort Homes for the Holidays annual event featuring a walking tour of 7 incredible homes located in Habersham\, an award-winning and nationally recognized community near Beaufort.\n\n\n\nFriday Candlelight Tour & Silent Auction. Enjoy Champagne and Hors d'oeuvres as you your these beautiful homes in the evening\, festively illuminated with holiday decor and luminaries. Tickets must be purchased online in advance.
X-ALT-DESC;FMTTYPE=text/html:Join us for the 23rd Beaufort Homes for the Holidays annual event featuring a walking tour of 7 incredible homes located in Habersham\, an award-winning and nationally recognized community near Beaufort.<br />\n<br />\n<strong>Friday Candlelight Tour &amp\; Silent Auction.</strong> Enjoy Champagne and Hors d&#39\;oeuvres as you your these beautiful homes in the evening\, festively illuminated with holiday decor and luminaries. <a href="https://beauforthomesfortheholidays.com/tickets/">Tickets must be purchased online in advance.</a>
LOCATION:Habersham Event parking is located in the fields along Cherokee Farms Road\, adjacent to the Marketplace entrance to Habersham. Look for signs and 'parking elves' for directions.
UID:e.1212.14015
SEQUENCE:3
DTSTAMP:20260423T122552Z
URL:https://business.beaufortchamber.org/events/details/23rd-annual-beaufort-homes-for-the-holidays-candlelight-tour-14015
END:VEVENT

END:VCALENDAR
