BEGIN:VCALENDAR
VERSION:2.0
PRODID:-//ChamberMaster//Event Calendar 2.0//EN
METHOD:PUBLISH
X-PUBLISHED-TTL:P3D
REFRESH-INTERVAL:P3D
CALSCALE:GREGORIAN
BEGIN:VEVENT
DTSTART;VALUE=DATE:20080223
DTEND;VALUE=DATE:20080224
TRANSP:TRANSPARENT
X-MICROSOFT-CDO-ALLDAYEVENT:TRUE
SUMMARY:Afternoon Events
DESCRIPTION:Afternoon events: Na Fidleiri\, Irish dancing\, Celtic musician/singer Carroll Brown\, a food demonstration (Irish favorites)\, and a competition for the best Irish soda bread\; require admission\; vendors and food for sale (Panini's and Upper Crust)\;
X-ALT-DESC;FMTTYPE=text/html:Afternoon events: Na Fidleiri\, Irish dancing\, Celtic musician/singer Carroll Brown\, a food demonstration (Irish favorites)\, and a competition for the best Irish soda bread\; require admission\; vendors and food for sale (Panini's and Upper Crust)\;
LOCATION:Lady's Island
UID:e.1212.2140
SEQUENCE:3
DTSTAMP:20260425T010328Z
URL:https://business.beaufortchamber.org/events/details/afternoon-events-02-23-2008-2140
END:VEVENT

END:VCALENDAR
