BEGIN:VCALENDAR
VERSION:2.0
PRODID:-//ChamberMaster//Event Calendar 2.0//EN
METHOD:PUBLISH
X-PUBLISHED-TTL:P3D
REFRESH-INTERVAL:P3D
CALSCALE:GREGORIAN
BEGIN:VEVENT
DTSTART:20230422T223000Z
DTEND:20230423T010000Z
X-MICROSOFT-CDO-ALLDAYEVENT:FALSE
SUMMARY:Airshow After Party
DESCRIPTION:All are welcome to join us Saturday evening at the Air Show After Party in Port Royal at the end of Paris Ave from 6:30-9:00 p.m. for live music from the Marine Corps Rock Band and a meet-and-greet with the Blue Angels. Several local food trucks and Shellring Ale Works will be serving up food and drinks!
X-ALT-DESC;FMTTYPE=text/html:<strong><span style="font-family:arial\,sans-serif\;"><span style="font-size:10.0pt\;">All are welcome to join us Saturday evening at the Air Show After Party in Port Royal at the end of Paris Ave from 6:30-9:00 p.m. for live music from the Marine Corps Rock Band and a meet-and-greet with the Blue Angels. Several local food trucks and Shellring Ale Works will be serving up food and drinks!</span></span></strong>
LOCATION:800 Paris Avenue in Port Royal
UID:e.1212.13376
SEQUENCE:3
DTSTAMP:20260424T150733Z
URL:https://business.beaufortchamber.org/events/details/airshow-after-party-13376
END:VEVENT

END:VCALENDAR
