BEGIN:VCALENDAR
VERSION:2.0
PRODID:-//ChamberMaster//Event Calendar 2.0//EN
METHOD:PUBLISH
X-PUBLISHED-TTL:P3D
REFRESH-INTERVAL:P3D
CALSCALE:GREGORIAN
BEGIN:VEVENT
DTSTART;VALUE=DATE:20081007
DTEND;VALUE=DATE:20081008
TRANSP:TRANSPARENT
X-MICROSOFT-CDO-ALLDAYEVENT:TRUE
SUMMARY:Ambassador's Committee Meeting
DESCRIPTION:
X-ALT-DESC;FMTTYPE=text/html:
LOCATION:Beaufort
UID:e.1212.1956
SEQUENCE:3
DTSTAMP:20260425T135855Z
URL:https://business.beaufortchamber.org/events/details/ambassador-s-committee-meeting-10-07-2008-1956
END:VEVENT

END:VCALENDAR
