BEGIN:VCALENDAR
VERSION:2.0
PRODID:-//ChamberMaster//Event Calendar 2.0//EN
METHOD:PUBLISH
X-PUBLISHED-TTL:P3D
REFRESH-INTERVAL:P3D
CALSCALE:GREGORIAN
BEGIN:VEVENT
DTSTART;VALUE=DATE:20081120
DTEND;VALUE=DATE:20081121
TRANSP:TRANSPARENT
X-MICROSOFT-CDO-ALLDAYEVENT:TRUE
SUMMARY:Annual Legislative Reception
DESCRIPTION:Join the Beaufort Regional Chamber of Commerce for their annual Legislative Reception !   Members $35  Non-Members $70.  Please RSVP by  12:00 Noon\, Wednesday\, November 19th.
X-ALT-DESC;FMTTYPE=text/html:Join the Beaufort Regional Chamber of Commerce for their annual Legislative Reception !   Members $35  Non-Members $70.  Please RSVP by  12:00 Noon\, Wednesday\, November 19th.
LOCATION:
UID:e.1212.2717
SEQUENCE:3
DTSTAMP:20260425T151004Z
URL:https://business.beaufortchamber.org/events/details/annual-legislative-reception-11-20-2008-2717
END:VEVENT

END:VCALENDAR
