BEGIN:VCALENDAR
VERSION:2.0
PRODID:-//ChamberMaster//Event Calendar 2.0//EN
METHOD:PUBLISH
X-PUBLISHED-TTL:P3D
REFRESH-INTERVAL:P3D
CALSCALE:GREGORIAN
BEGIN:VEVENT
DTSTART;VALUE=DATE:20071129
DTEND;VALUE=DATE:20071130
TRANSP:TRANSPARENT
X-MICROSOFT-CDO-ALLDAYEVENT:TRUE
SUMMARY:Annual Legislative Reception
DESCRIPTION:USC - Bluffton is located at 1 University Blvd.  Cost: $35\, includes bar and hors d' oeuvres\; business attire\; RSVP by November 21
X-ALT-DESC;FMTTYPE=text/html:USC - Bluffton is located at 1 University Blvd.  <i>Cost: $35\, includes bar and hors d' oeuvres\; business attire\;</i> <b>RSVP by November 21</b>
LOCATION:Bluffton
UID:e.1212.1841
SEQUENCE:3
DTSTAMP:20260424T211046Z
URL:https://business.beaufortchamber.org/events/details/annual-legislative-reception-11-29-2007-1841
END:VEVENT

END:VCALENDAR
