BEGIN:VCALENDAR
VERSION:2.0
PRODID:-//ChamberMaster//Event Calendar 2.0//EN
METHOD:PUBLISH
X-PUBLISHED-TTL:P3D
REFRESH-INTERVAL:P3D
CALSCALE:GREGORIAN
BEGIN:VEVENT
DTSTART:20230727T120000Z
DTEND:20230727T133000Z
X-MICROSOFT-CDO-ALLDAYEVENT:FALSE
SUMMARY:Annual Meeting for Chamber Members
DESCRIPTION:Join us for the Chamber's Annual Meeting\, where breakfast and important Chamber information will be served.
X-ALT-DESC;FMTTYPE=text/html:Join us for the Chamber&#39\;s Annual Meeting\, where breakfast and important Chamber information will be served.&nbsp\;
LOCATION:Hilton Garden Inn at Beaufort Town Center 1500 Queen Street\, Beaufort\, 29902
UID:e.1212.13408
SEQUENCE:3
DTSTAMP:20260424T121526Z
URL:https://business.beaufortchamber.org/events/details/annual-meeting-for-chamber-members-13408
END:VEVENT

END:VCALENDAR
