BEGIN:VCALENDAR
VERSION:2.0
PRODID:-//ChamberMaster//Event Calendar 2.0//EN
METHOD:PUBLISH
X-PUBLISHED-TTL:P3D
REFRESH-INTERVAL:P3D
CALSCALE:GREGORIAN
BEGIN:VEVENT
DTSTART;VALUE=DATE:20071218
DTEND;VALUE=DATE:20071219
TRANSP:TRANSPARENT
X-MICROSOFT-CDO-ALLDAYEVENT:TRUE
SUMMARY:Arby's Grand Opening
DESCRIPTION:Please RSVP
X-ALT-DESC;FMTTYPE=text/html:Please RSVP
LOCATION:Beaufort
UID:e.1212.2073
SEQUENCE:3
DTSTAMP:20260424T233505Z
URL:https://business.beaufortchamber.org/events/details/arby-s-grand-opening-12-18-2007-2073
END:VEVENT

END:VCALENDAR
