BEGIN:VCALENDAR
VERSION:2.0
PRODID:-//ChamberMaster//Event Calendar 2.0//EN
METHOD:PUBLISH
X-PUBLISHED-TTL:P3D
REFRESH-INTERVAL:P3D
CALSCALE:GREGORIAN
BEGIN:VEVENT
DTSTART:20200610T170000Z
DTEND:20200610T180000Z
X-MICROSOFT-CDO-ALLDAYEVENT:FALSE
SUMMARY:Ask the Expert Series - Kendall Erickson\, CPA
DESCRIPTION:Tax Implications of the SBA Programs\n\nThe small business relief programs created by the CARES Act in response to COVID-19 have been a lifeline for some businesses. They also raise a lot of business tax questions. \n\n \n\nWill the forgiven portion of PPP loans be treated as income? Are expenses paid with loan funds deductible? Do loan funds offset deduction for net operating loss?\n\n \n\nGuidance on these questions and more is still developing. On this webinar\, Kendall Erickson with Robinson Grant & Co. P.A will unpack what is currently known\, what guidelines are still missing\, and explain what questions you should ask to understand your business tax implications.\n\n \n\nGuest Expert: Kendall Erickson\, CPA   Partner\, Robinson Grant & Co. P.A.
X-ALT-DESC;FMTTYPE=text/html:<strong><em>Tax Implications of the SBA Programs</em></strong><br />\n<em>The small business relief programs created by the CARES Act in response to COVID-19 have been a lifeline for some businesses. They also raise a lot of business tax questions. </em><br />\n&nbsp\;<br />\n<em>Will the forgiven portion of PPP loans be treated as income? Are expenses paid with loan funds deductible? Do loan funds offset deduction for net operating loss?</em><br />\n&nbsp\;<br />\n<em>Guidance on these questions and more is still developing. On this webinar\, Kendall Erickson with Robinson Grant &amp\; Co. P.A will unpack what is currently known\, what guidelines are still missing\, and explain what questions you should ask to understand your business tax implications.</em><br />\n&nbsp\;<br />\n<em>Guest Expert: Kendall Erickson\, CPA &ndash\; Partner\, Robinson Grant &amp\; Co. P.A.</em><br />\n&nbsp\;<br />\n&nbsp\;
LOCATION:Virtual meeting. Participants must pre-register to attend. A link will be sent via email prior to the event.
UID:e.1212.12668
SEQUENCE:3
DTSTAMP:20260420T103619Z
URL:https://business.beaufortchamber.org/events/details/ask-the-expert-series-kendall-erickson-cpa-12668
END:VEVENT

END:VCALENDAR
