BEGIN:VCALENDAR
VERSION:2.0
PRODID:-//ChamberMaster//Event Calendar 2.0//EN
METHOD:PUBLISH
X-PUBLISHED-TTL:P3D
REFRESH-INTERVAL:P3D
CALSCALE:GREGORIAN
BEGIN:VEVENT
DTSTART:20200512T170000Z
DTEND:20200512T180000Z
X-MICROSOFT-CDO-ALLDAYEVENT:FALSE
SUMMARY:Ask the Expert Series - Linda Klingman\, Coastal HR
DESCRIPTION:Ask the Expert Series: HR Management During COVID-19\n\n \n\nEffective communication with employees has never been more important or more challenging than during this COVID-19 epidemic. Economic realities are forcing tough conversations\; new operational guidelines are straining existing polices. Good leaders are finding ways to balance compassion and clarity. Get advice to be the best leader for your team.
X-ALT-DESC;FMTTYPE=text/html:Ask the Expert Series: HR Management During COVID-19<br />\n&nbsp\;<br />\nEffective communication with employees has never been more important or more challenging than during this COVID-19 epidemic. Economic realities are forcing tough conversations\; new operational guidelines are straining existing polices. Good leaders are finding ways to balance compassion and clarity. Get advice to be the best leader for your team.<br />\n&nbsp\;
LOCATION:Virtual meeting. Participants must pre-register to attend. A link will be sent via email prior to the event.
UID:e.1212.12660
SEQUENCE:3
DTSTAMP:20260420T134457Z
URL:https://business.beaufortchamber.org/events/details/ask-the-expert-series-linda-klingman-coastal-hr-12660
END:VEVENT

END:VCALENDAR
