BEGIN:VCALENDAR
VERSION:2.0
PRODID:-//ChamberMaster//Event Calendar 2.0//EN
METHOD:PUBLISH
X-PUBLISHED-TTL:P3D
REFRESH-INTERVAL:P3D
CALSCALE:GREGORIAN
BEGIN:VEVENT
DTSTART:20200527T170000Z
DTEND:20200527T180000Z
X-MICROSOFT-CDO-ALLDAYEVENT:FALSE
SUMMARY:Ask the Expert Series - Patricia Rickenbacher
DESCRIPTION:Think Clearly during Challenging Times\n\n \n\nLeading a business takes mental resilience.  You need clear thinking to assess  information\, evaluate risk\,  and pivot when necessary. The uncertainty caused by COVID-19 has made tough business leadership roles even harder. This Ask the Expert webinar will discuss techniques to maintain mental control and think clearly during challenging times.  \n\n \n\nPatricia Rickenbaker\, a licensed clinical social worker at Beaufort Memorial Sea Island Psychiatry\, is experienced in psychodynamic psychotherapy. She uses a number of techniques in patient treatment\, including re-decision\, trauma recovery and mind-body focus.\n\n \n\n\n\n\n\n\\
X-ALT-DESC;FMTTYPE=text/html:<strong>Think Clearly during Challenging Times</strong><br />\n&nbsp\;<br />\nLeading a business takes mental resilience. &nbsp\;You need clear thinking to assess &nbsp\;information\, evaluate risk\, &nbsp\;and pivot when necessary. The uncertainty caused by COVID-19 has made tough business leadership roles even harder. This Ask the Expert webinar will discuss techniques to maintain mental control and think clearly during challenging times. &nbsp\;<br />\n&nbsp\;<br />\nPatricia Rickenbaker\, a licensed clinical social worker at Beaufort Memorial Sea Island Psychiatry\, is experienced in psychodynamic psychotherapy. She uses a number of techniques in patient treatment\, including re-decision\, trauma recovery and mind-body focus.<br />\n&nbsp\;<br />\n<br />\n<br />\n\\
LOCATION:Virtual meeting. Participants must pre-register to attend. A link will be sent via email prior to the event.
UID:e.1212.12667
SEQUENCE:3
DTSTAMP:20260420T121646Z
URL:https://business.beaufortchamber.org/events/details/ask-the-expert-series-patricia-rickenbacher-12667
END:VEVENT

END:VCALENDAR
