BEGIN:VCALENDAR
VERSION:2.0
PRODID:-//ChamberMaster//Event Calendar 2.0//EN
METHOD:PUBLISH
X-PUBLISHED-TTL:P3D
REFRESH-INTERVAL:P3D
CALSCALE:GREGORIAN
BEGIN:VEVENT
DTSTART:20200603T170000Z
DTEND:20200603T180000Z
X-MICROSOFT-CDO-ALLDAYEVENT:FALSE
SUMMARY:Ask the Expert Series - Unemployment Benefits\, SC DEW
DESCRIPTION:Unemployment Benefits in the COVID-19 Era\n\n \n\nThe March shutdown left many business owners no choice but to reduce hours or lay off employees. The phased May reopening has also caused tough decisions for employers about when to bring workers back and how to handle employees unready to return. This session will provide counsel on these and other unemployment benefits related questions.\n\n \n\nGuest Expert: Chief of Staff\, Jamie Suber\, and Chief Legal Officer\, Todd Timmons from the South Carolina Department of Employment and Workforce
X-ALT-DESC;FMTTYPE=text/html:<strong>Unemployment Benefits in the COVID-19 Era<br />\n&nbsp\;</strong><br />\nThe March shutdown left many business owners no choice but to reduce hours or lay off employees. The phased May reopening has also caused tough decisions for employers about when to bring workers back and how to handle employees unready to return. This session will provide counsel on these and other unemployment benefits related questions.<br />\n&nbsp\;<br />\n<strong>Guest Expert:</strong> Chief of Staff\, Jamie Suber\, and Chief Legal Officer\, Todd Timmons from the South Carolina Department of Employment and Workforce<br />\n&nbsp\;<br />\n<br />\n&nbsp\;
LOCATION:Virtual meeting. Participants must pre-register to attend. A link will be sent via email prior to the event.
UID:e.1212.12669
SEQUENCE:3
DTSTAMP:20260420T121036Z
URL:https://business.beaufortchamber.org/events/details/ask-the-expert-series-unemployment-benefits-sc-dew-12669
END:VEVENT

END:VCALENDAR
