BEGIN:VCALENDAR
VERSION:2.0
PRODID:-//ChamberMaster//Event Calendar 2.0//EN
METHOD:PUBLISH
X-PUBLISHED-TTL:P3D
REFRESH-INTERVAL:P3D
CALSCALE:GREGORIAN
BEGIN:VEVENT
DTSTART:20260115T223000Z
DTEND:20260115T233000Z
X-MICROSOFT-CDO-ALLDAYEVENT:FALSE
SUMMARY:Beaufort Academy Job Fair
DESCRIPTION:Beaufort Academy will be hosting a job fair for individuals interested in future employment opportunities with our school. We are welcoming educators\, administrators\, classroom assistants\, preschool staff\, substitutes\, and other office and support professionals. While experience in education is encouraged\, it is not required this event is open to anyone interested in learning more about working in an independent school environment.\n\nBeaufort Academy is a PreK 12 private school located on Lady's Island and proudly celebrates more than 60 years of educating students in the Lowcountry. We offer small class sizes\, a supportive and collaborative culture\, and the opportunity to truly grow and refine one's professional craft.
X-ALT-DESC;FMTTYPE=text/html:<p class="xgmail-isselectedend">Beaufort Academy will be hosting a&nbsp\;job fair for individuals interested in future employment opportunities with our school. We are welcoming educators\, administrators\, classroom assistants\, preschool staff\, substitutes\, and other office and support professionals. While experience in education is encouraged\, it is not required&mdash\;this event is open to anyone interested in learning more about working in an independent school environment.<o:p></o:p></p>\n\n<p class="xgmail-isselectedend">Beaufort Academy is a PreK&ndash\;12 private school located on Lady&rsquo\;s Island and proudly celebrates more than 60 years of educating students in the Lowcountry. We offer small class sizes\, a supportive and collaborative culture\, and the opportunity to truly grow and refine one&rsquo\;s professional craft.<o:p></o:p></p>\n
LOCATION:Beaufort Academy 240 Sams Point road Beaufort\, SC 29907
UID:e.1212.14974
SEQUENCE:3
DTSTAMP:20260424T114836Z
URL:https://business.beaufortchamber.org/events/details/beaufort-academy-job-fair-14974
END:VEVENT

END:VCALENDAR
