BEGIN:VCALENDAR
VERSION:2.0
PRODID:-//ChamberMaster//Event Calendar 2.0//EN
METHOD:PUBLISH
X-PUBLISHED-TTL:P3D
REFRESH-INTERVAL:P3D
CALSCALE:GREGORIAN
BEGIN:VEVENT
DTSTART;VALUE=DATE:20080309
DTEND;VALUE=DATE:20080310
TRANSP:TRANSPARENT
X-MICROSOFT-CDO-ALLDAYEVENT:TRUE
SUMMARY:Beaufort Orchestra Benefit - 'Brunch at Outback'
DESCRIPTION:Benefits music lesson scholarships for the Beaufort Youth Orchestra.  Tickets:  $20 adults\, $10 children up to\n13 and children under 6 Free.
X-ALT-DESC;FMTTYPE=text/html:Benefits music lesson scholarships for the Beaufort Youth Orchestra.  Tickets:  $20 adults\, $10 children up to\n13 and children under 6 Free.
LOCATION:
UID:e.1212.2088
SEQUENCE:3
DTSTAMP:20260425T024654Z
URL:https://business.beaufortchamber.org/events/details/beaufort-orchestra-benefit-brunch-at-outback-03-09-2008-2088
END:VEVENT

END:VCALENDAR
