BEGIN:VCALENDAR
VERSION:2.0
PRODID:-//ChamberMaster//Event Calendar 2.0//EN
METHOD:PUBLISH
X-PUBLISHED-TTL:P3D
REFRESH-INTERVAL:P3D
CALSCALE:GREGORIAN
BEGIN:VEVENT
DTSTART;VALUE=DATE:20080807
DTEND;VALUE=DATE:20080808
TRANSP:TRANSPARENT
X-MICROSOFT-CDO-ALLDAYEVENT:TRUE
SUMMARY:Beaufort Regional Chamber Aug - Education-Workforce Development Committee
DESCRIPTION:Advancing economic prosperity requires a strong partnership between the business community and educational leaders.  This committee engages in programs that help provide a more qualified ready-to-work employee base and provides support and recognition to our education providers.
X-ALT-DESC;FMTTYPE=text/html:Advancing economic prosperity requires a strong partnership between the business community and educational leaders.  This committee engages in programs that help provide a more qualified ready-to-work employee base and provides support and recognition to our education providers.
LOCATION:Beaufort
UID:e.1212.1972
SEQUENCE:3
DTSTAMP:20260425T122258Z
URL:https://business.beaufortchamber.org/events/details/beaufort-regional-chamber-aug-education-workforce-development-committee-08-07-2008-1972
END:VEVENT

END:VCALENDAR
