BEGIN:VCALENDAR
VERSION:2.0
PRODID:-//ChamberMaster//Event Calendar 2.0//EN
METHOD:PUBLISH
X-PUBLISHED-TTL:P3D
REFRESH-INTERVAL:P3D
CALSCALE:GREGORIAN
BEGIN:VEVENT
DTSTART;VALUE=DATE:20080220
DTEND;VALUE=DATE:20080221
TRANSP:TRANSPARENT
X-MICROSOFT-CDO-ALLDAYEVENT:TRUE
SUMMARY:Beaufort Regional Chamber Film Commission Meeting
DESCRIPTION:
X-ALT-DESC;FMTTYPE=text/html:
LOCATION:Beaufort
UID:e.1212.1977
SEQUENCE:3
DTSTAMP:20260425T010526Z
URL:https://business.beaufortchamber.org/events/details/beaufort-regional-chamber-film-commission-meeting-02-20-2008-1977
END:VEVENT

END:VCALENDAR
