BEGIN:VCALENDAR
VERSION:2.0
PRODID:-//ChamberMaster//Event Calendar 2.0//EN
METHOD:PUBLISH
X-PUBLISHED-TTL:P3D
REFRESH-INTERVAL:P3D
CALSCALE:GREGORIAN
BEGIN:VEVENT
DTSTART;VALUE=DATE:20080916
DTEND;VALUE=DATE:20080917
TRANSP:TRANSPARENT
X-MICROSOFT-CDO-ALLDAYEVENT:TRUE
SUMMARY:Beaufort Sail & Power Squadron Public Boating Course
DESCRIPTION:This is the Power Squadron course that teaches boaters the basics of water safety management.  Contact\nLt/C John Satterfield at the number below for more information.
X-ALT-DESC;FMTTYPE=text/html:This is the Power Squadron course that teaches boaters the basics of water safety management.  Contact\nLt/C John Satterfield at the number below for more information.
LOCATION:
UID:e.1212.2619
SEQUENCE:3
DTSTAMP:20260425T134616Z
URL:https://business.beaufortchamber.org/events/details/beaufort-sail-power-squadron-public-boating-course-09-16-2008-2619
END:VEVENT

END:VCALENDAR
