BEGIN:VCALENDAR
VERSION:2.0
PRODID:-//ChamberMaster//Event Calendar 2.0//EN
METHOD:PUBLISH
X-PUBLISHED-TTL:P3D
REFRESH-INTERVAL:P3D
CALSCALE:GREGORIAN
BEGIN:VEVENT
DTSTART;VALUE=DATE:20081003
DTEND;VALUE=DATE:20081004
TRANSP:TRANSPARENT
X-MICROSOFT-CDO-ALLDAYEVENT:TRUE
SUMMARY:Beaufort Shrimp Festival
DESCRIPTION:The event opens with a free concert in the park Friday evening and includes a run and walk Saturday morning. Then the festival continues with free music\, entertainment for kids\, peeling contests and plenty of shrimp to eat. Enjoy local recipes and tastings from a dozen restaurants. Limited non-shrimp alternative foods are available.\n\n\n\nSee links below for race registration forms. Restaurant and arts & crafts booth registration forms.\n\n\n\n5K Run Registration Form\n\nWalk Through History Registration Form\n\nPopcorn Shrimp Race Registration Form
X-ALT-DESC;FMTTYPE=text/html:The event opens with a free concert in the park Friday evening and includes a run and walk Saturday morning. Then the festival continues with free music\, entertainment for kids\, peeling contests and plenty of shrimp to eat. Enjoy local recipes and tastings from a dozen restaurants. Limited non-shrimp alternative foods are available.<br />\n<br />\nSee links below for race registration forms. Restaurant and arts &amp\; crafts booth registration forms.<br />\n<br />\n<a href="http://www.beaufortsc.org/c_images/Run%20Registration%20Form.pdf">5K Run Registration Form</a><br />\n<a href="http://www.beaufortsc.org/c_images/Walk%20Registration%20Form.pdf"><i>Walk Through History</i> Registration Form</a><br />\n<a href="http://www.beaufortsc.org/c_images/Popcorn%20Registration%20Form.pdf"><i>Popcorn Shrimp Race Registration Form</i></a>
LOCATION:
UID:e.1212.2648
SEQUENCE:3
DTSTAMP:20260425T140047Z
URL:https://business.beaufortchamber.org/events/details/beaufort-shrimp-festival-10-03-2008-2648
END:VEVENT

END:VCALENDAR
