BEGIN:VCALENDAR
VERSION:2.0
PRODID:-//ChamberMaster//Event Calendar 2.0//EN
METHOD:PUBLISH
X-PUBLISHED-TTL:P3D
REFRESH-INTERVAL:P3D
CALSCALE:GREGORIAN
BEGIN:VEVENT
DTSTART;VALUE=DATE:20221007
DTEND;VALUE=DATE:20221009
TRANSP:TRANSPARENT
X-MICROSOFT-CDO-ALLDAYEVENT:TRUE
SUMMARY:Beaufort Shrimp Festival
DESCRIPTION:The annual Shrimp Festival returns to downtown Beaufort's Waterfront Park on Friday\, October 7 and Saturday\, October 8.\n\n\n\nGo to www.beaufortshrimpfestival.com\n\nto see the schedule of entertainment\, activities\, and participating vendors.
X-ALT-DESC;FMTTYPE=text/html:The annual Shrimp Festival returns to downtown Beaufort&#39\;s Waterfront Park on Friday\, October 7 and Saturday\, October 8.<br />\n<br />\nGo to www.beaufortshrimpfestival.com<br />\nto see the schedule of entertainment\, activities\, and participating vendors.
LOCATION:Henry C. Chambers Waterfront Park Beaufort\, SC
UID:e.1212.13299
SEQUENCE:3
DTSTAMP:20260424T232642Z
URL:https://business.beaufortchamber.org/events/details/beaufort-shrimp-festival-13299
END:VEVENT

END:VCALENDAR
