BEGIN:VCALENDAR
VERSION:2.0
PRODID:-//ChamberMaster//Event Calendar 2.0//EN
METHOD:PUBLISH
X-PUBLISHED-TTL:P3D
REFRESH-INTERVAL:P3D
CALSCALE:GREGORIAN
BEGIN:VEVENT
DTSTART;VALUE=DATE:20071005
DTEND;VALUE=DATE:20071006
TRANSP:TRANSPARENT
X-MICROSOFT-CDO-ALLDAYEVENT:TRUE
SUMMARY:Beaufort Shrimp Festival Concerts
DESCRIPTION:Concert Schedule: Friday\, October 5: 5:30 p.m. - Zach Deputy\, 8 p.m. - Plane Jane\; Saturday\, October 6: 11 a.m. - Rickey Godfrey Band\, 3 p.m. - Gaslight Street.                                                                         Media partner: John FM\; Visit this link: Shrimp Festival
X-ALT-DESC;FMTTYPE=text/html:Concert Schedule: <b>Friday\, October 5:</b> 5:30 p.m. - Zach Deputy\, 8 p.m. - Plane Jane\; <b>Saturday\, October 6:</b> 11 a.m. - Rickey Godfrey Band\, 3 p.m. - Gaslight Street.                                                                         <b>Media partner: John FM</b>\; <b>Visit this link:</b> <A HREF=http://www.beaufortsc.org/gen_ipage.php?cat=visitor&subcat=fest_events&submenu=Shrimp /">Shrimp Festival</A>
LOCATION:
UID:e.1212.1666
SEQUENCE:3
DTSTAMP:20260424T200328Z
URL:https://business.beaufortchamber.org/events/details/beaufort-shrimp-festival-concerts-10-05-2007-1666
END:VEVENT

END:VCALENDAR
