BEGIN:VCALENDAR
VERSION:2.0
PRODID:-//ChamberMaster//Event Calendar 2.0//EN
METHOD:PUBLISH
X-PUBLISHED-TTL:P3D
REFRESH-INTERVAL:P3D
CALSCALE:GREGORIAN
BEGIN:VEVENT
DTSTART;VALUE=DATE:20071005
DTEND;VALUE=DATE:20071006
TRANSP:TRANSPARENT
X-MICROSOFT-CDO-ALLDAYEVENT:TRUE
SUMMARY:Beaufort Shrimp Festival Opening
DESCRIPTION:Fresh\, wild-caught\, local shrimp being served by the Shrimpers Association all night.  Music by Zach Deputy at 5:30 p.m. and Plane Jane at 8 p.m.  Come out and enjoy the festivities!\n\nMedia partner: John FM\;                                                                                                                                                    Visit this link: Shrimp Festival
X-ALT-DESC;FMTTYPE=text/html:Fresh\, wild-caught\, local shrimp being served by the Shrimpers Association all night.  Music by Zach Deputy at 5:30 p.m. and Plane Jane at 8 p.m.  Come out and enjoy the festivities!\n\n<b>Media partner: John FM\;</b>                                                                                                                                                    <b>Visit this link:</b> <A HREF=http://www.beaufortsc.org/gen_ipage.php?cat=visitor&subcat=fest_events&submenu=Shrimp /">Shrimp Festival</A>\n\n\n\n\n
LOCATION:Beaufort Historic District
UID:e.1212.1331
SEQUENCE:3
DTSTAMP:20260424T200056Z
URL:https://business.beaufortchamber.org/events/details/beaufort-shrimp-festival-opening-10-05-2007-1331
END:VEVENT

END:VCALENDAR
