BEGIN:VCALENDAR
VERSION:2.0
PRODID:-//ChamberMaster//Event Calendar 2.0//EN
METHOD:PUBLISH
X-PUBLISHED-TTL:P3D
REFRESH-INTERVAL:P3D
CALSCALE:GREGORIAN
BEGIN:VEVENT
DTSTART;VALUE=DATE:20071006
DTEND;VALUE=DATE:20071007
TRANSP:TRANSPARENT
X-MICROSOFT-CDO-ALLDAYEVENT:TRUE
SUMMARY:Beaufort Shrimp Festival Races
DESCRIPTION:5K Run and Walk Through History at 8 a.m.\; Popcorn Shrimp Run at 8:45\; MUST PRE-REGISTER\; access registration forms at link below\; award ceremony immediately following\;\n\nMedia partner: John FM\;                                                                                                                                              \n\nVisit this link: Shrimp Festival
X-ALT-DESC;FMTTYPE=text/html:5K Run and Walk Through History at 8 a.m.\; Popcorn Shrimp Run at 8:45\; <b>MUST PRE-REGISTER</b>\; access registration forms at link below\; award ceremony immediately following\;\n\n<b>Media partner: John FM\;</b>                                                                                                                                              \n\n<b>Visit this link:</b> <A HREF=http://www.beaufortsc.org/gen_ipage.php?cat=visitor&subcat=fest_events&submenu=Shrimp /">Shrimp Festival</A>\n\n
LOCATION:Beaufort Historic District
UID:e.1212.1332
SEQUENCE:3
DTSTAMP:20260424T200057Z
URL:https://business.beaufortchamber.org/events/details/beaufort-shrimp-festival-races-10-06-2007-1332
END:VEVENT

END:VCALENDAR
