BEGIN:VCALENDAR
VERSION:2.0
PRODID:-//ChamberMaster//Event Calendar 2.0//EN
METHOD:PUBLISH
X-PUBLISHED-TTL:P3D
REFRESH-INTERVAL:P3D
CALSCALE:GREGORIAN
BEGIN:VEVENT
DTSTART:20200505T223000Z
DTEND:20200505T233000Z
X-MICROSOFT-CDO-ALLDAYEVENT:FALSE
SUMMARY:Beaufort Track Club Track Night
DESCRIPTION:Join the Beaufort Track Club each Tuesday night for an open community track workout. Beginner\, Intermediate\, and Advanced workouts are posted each week to ensure that you are getting the workout that you need.
X-ALT-DESC;FMTTYPE=text/html:Join the Beaufort Track Club each Tuesday night for an open community track workout. Beginner\, Intermediate\, and Advanced workouts are posted each week to ensure that you are getting the workout that you need.
LOCATION:Beaufort Middle School Track
UID:e.1212.8953
SEQUENCE:3
DTSTAMP:20260420T121813Z
URL:https://business.beaufortchamber.org/events/details/beaufort-track-club-track-night-05-05-2020-8953
END:VEVENT

END:VCALENDAR
