BEGIN:VCALENDAR
VERSION:2.0
PRODID:-//ChamberMaster//Event Calendar 2.0//EN
METHOD:PUBLISH
X-PUBLISHED-TTL:P3D
REFRESH-INTERVAL:P3D
CALSCALE:GREGORIAN
BEGIN:VEVENT
DTSTART;VALUE=DATE:20080206
DTEND;VALUE=DATE:20080207
TRANSP:TRANSPARENT
X-MICROSOFT-CDO-ALLDAYEVENT:TRUE
SUMMARY:Beginners Beading Class
DESCRIPTION:All supplies are provided.  Please sign up and pre-pay as space is limited.  Cost:  $25 per person.
X-ALT-DESC;FMTTYPE=text/html:All supplies are provided.  Please sign up and pre-pay as space is limited.  Cost:  $25 per person.
LOCATION:
UID:e.1212.2159
SEQUENCE:3
DTSTAMP:20260425T010210Z
URL:https://business.beaufortchamber.org/events/details/beginners-beading-class-02-06-2008-2159
END:VEVENT

END:VCALENDAR
