BEGIN:VCALENDAR
VERSION:2.0
PRODID:-//ChamberMaster//Event Calendar 2.0//EN
METHOD:PUBLISH
X-PUBLISHED-TTL:P3D
REFRESH-INTERVAL:P3D
CALSCALE:GREGORIAN
BEGIN:VEVENT
DTSTART;VALUE=DATE:20080305
DTEND;VALUE=DATE:20080306
TRANSP:TRANSPARENT
X-MICROSOFT-CDO-ALLDAYEVENT:TRUE
SUMMARY:Beginners Beading Class
DESCRIPTION:Learn basic bead stringing techniques.  If you have beading tools\, please bring them.  All supplies included\nin the $25 fee.  Reservations required.
X-ALT-DESC;FMTTYPE=text/html:Learn basic bead stringing techniques.  If you have beading tools\, please bring them.  All supplies included\nin the $25 fee.  Reservations required.
LOCATION:
UID:e.1212.2182
SEQUENCE:3
DTSTAMP:20260425T040341Z
URL:https://business.beaufortchamber.org/events/details/beginners-beading-class-03-05-2008-2182
END:VEVENT

END:VCALENDAR
