BEGIN:VCALENDAR
VERSION:2.0
PRODID:-//ChamberMaster//Event Calendar 2.0//EN
METHOD:PUBLISH
X-PUBLISHED-TTL:P3D
REFRESH-INTERVAL:P3D
CALSCALE:GREGORIAN
BEGIN:VEVENT
DTSTART;VALUE=DATE:20081115
DTEND;VALUE=DATE:20081116
TRANSP:TRANSPARENT
X-MICROSOFT-CDO-ALLDAYEVENT:TRUE
SUMMARY:Belk Fall Charity Sale
DESCRIPTION:Take advantage of tremendous once-a-seson savings.  Purchase $5 ticket from local non-profits or charities and get fantastic savings on Belk products including rarely discounted brands.  Contact your local Belk's store manager for information if interested in participating.
X-ALT-DESC;FMTTYPE=text/html:Take advantage of tremendous once-a-seson savings.  Purchase $5 ticket from local non-profits or charities and get fantastic savings on Belk products including rarely discounted brands.  Contact your local Belk's store manager for information if interested in participating.
LOCATION:
UID:e.1212.2767
SEQUENCE:3
DTSTAMP:20260425T145859Z
URL:https://business.beaufortchamber.org/events/details/belk-fall-charity-sale-11-15-2008-2767
END:VEVENT

END:VCALENDAR
