BEGIN:VCALENDAR
VERSION:2.0
PRODID:-//ChamberMaster//Event Calendar 2.0//EN
METHOD:PUBLISH
X-PUBLISHED-TTL:P3D
REFRESH-INTERVAL:P3D
CALSCALE:GREGORIAN
BEGIN:VEVENT
DTSTART;VALUE=DATE:20080301
DTEND;VALUE=DATE:20080302
TRANSP:TRANSPARENT
X-MICROSOFT-CDO-ALLDAYEVENT:TRUE
SUMMARY:Biathlon
DESCRIPTION:Kayaking and running biathlon\; sponsored by Sea Island Rotary\; click here for further details.
X-ALT-DESC;FMTTYPE=text/html:Kayaking and running biathlon\; sponsored by Sea Island Rotary\; click <A HREF="http://66.194.119.5/c_images/HI%20Biathlon%203%20Column%20Final.pdf">here</A> for further details.
LOCATION:Hunting Island
UID:e.1212.2032
SEQUENCE:3
DTSTAMP:20260425T023807Z
URL:https://business.beaufortchamber.org/events/details/biathlon-03-01-2008-2032
END:VEVENT

END:VCALENDAR
