BEGIN:VCALENDAR
VERSION:2.0
PRODID:-//ChamberMaster//Event Calendar 2.0//EN
METHOD:PUBLISH
X-PUBLISHED-TTL:P3D
REFRESH-INTERVAL:P3D
CALSCALE:GREGORIAN
BEGIN:VEVENT
DTSTART;VALUE=DATE:20080723
DTEND;VALUE=DATE:20080724
TRANSP:TRANSPARENT
X-MICROSOFT-CDO-ALLDAYEVENT:TRUE
SUMMARY:Bicycle to Brewers
DESCRIPTION:Ride your bicycle to Brewer’s\, and enter to win $20 in Brewer’s BUCKS! A winner every Wednesday night during The Tour! \n\n The next date for this exciting event will be July 23\, 2008
X-ALT-DESC;FMTTYPE=text/html:Ride your bicycle to Brewer’s\, and enter to win $20 in Brewer’s BUCKS! A winner every Wednesday night during The Tour! <BR><BR> The next date for this exciting event will be July 23\, 2008
LOCATION:Beaufort
UID:e.1212.2609
SEQUENCE:3
DTSTAMP:20260425T105553Z
URL:https://business.beaufortchamber.org/events/details/bicycle-to-brewers-07-23-2008-2609
END:VEVENT

END:VCALENDAR
