BEGIN:VCALENDAR
VERSION:2.0
PRODID:-//ChamberMaster//Event Calendar 2.0//EN
METHOD:PUBLISH
X-PUBLISHED-TTL:P3D
REFRESH-INTERVAL:P3D
CALSCALE:GREGORIAN
BEGIN:VEVENT
DTSTART;VALUE=DATE:20080220
DTEND;VALUE=DATE:20080221
TRANSP:TRANSPARENT
X-MICROSOFT-CDO-ALLDAYEVENT:TRUE
SUMMARY:Blood Drive - Lowcountry Community Blood Center
DESCRIPTION:
X-ALT-DESC;FMTTYPE=text/html:
LOCATION:Beaufort
UID:e.1212.2122
SEQUENCE:3
DTSTAMP:20260425T010233Z
URL:https://business.beaufortchamber.org/events/details/blood-drive-lowcountry-community-blood-center-02-20-2008-2122
END:VEVENT

END:VCALENDAR
