BEGIN:VCALENDAR
VERSION:2.0
PRODID:-//ChamberMaster//Event Calendar 2.0//EN
METHOD:PUBLISH
X-PUBLISHED-TTL:P3D
REFRESH-INTERVAL:P3D
CALSCALE:GREGORIAN
BEGIN:VEVENT
DTSTART;VALUE=DATE:20080322
DTEND;VALUE=DATE:20080323
TRANSP:TRANSPARENT
X-MICROSOFT-CDO-ALLDAYEVENT:TRUE
SUMMARY:Blood Drive - Lowcountry Community Blood Center
DESCRIPTION:Sea Island Rotary
X-ALT-DESC;FMTTYPE=text/html:Sea Island Rotary
LOCATION:Beaufort
UID:e.1212.2286
SEQUENCE:3
DTSTAMP:20260425T024829Z
URL:https://business.beaufortchamber.org/events/details/blood-drive-lowcountry-community-blood-center-03-22-2008-2286
END:VEVENT

END:VCALENDAR
