BEGIN:VCALENDAR
VERSION:2.0
PRODID:-//ChamberMaster//Event Calendar 2.0//EN
METHOD:PUBLISH
X-PUBLISHED-TTL:P3D
REFRESH-INTERVAL:P3D
CALSCALE:GREGORIAN
BEGIN:VEVENT
DTSTART;VALUE=DATE:20080329
DTEND;VALUE=DATE:20080330
TRANSP:TRANSPARENT
X-MICROSOFT-CDO-ALLDAYEVENT:TRUE
SUMMARY:Blood Drive - Lowcountry Community Blood Center
DESCRIPTION:Jasper County ABATE
X-ALT-DESC;FMTTYPE=text/html:Jasper County ABATE
LOCATION:Ridgeland\, SC
UID:e.1212.2210
SEQUENCE:3
DTSTAMP:20260425T024825Z
URL:https://business.beaufortchamber.org/events/details/blood-drive-lowcountry-community-blood-center-03-29-2008-2210
END:VEVENT

END:VCALENDAR
