BEGIN:VCALENDAR
VERSION:2.0
PRODID:-//ChamberMaster//Event Calendar 2.0//EN
METHOD:PUBLISH
X-PUBLISHED-TTL:P3D
REFRESH-INTERVAL:P3D
CALSCALE:GREGORIAN
BEGIN:VEVENT
DTSTART;VALUE=DATE:20070620
DTEND;VALUE=DATE:20070621
TRANSP:TRANSPARENT
X-MICROSOFT-CDO-ALLDAYEVENT:TRUE
SUMMARY:Blood Drive - Lowcountry Community Blood Center
DESCRIPTION:
X-ALT-DESC;FMTTYPE=text/html:
LOCATION:
UID:e.1212.1433
SEQUENCE:3
DTSTAMP:20260424T160906Z
URL:https://business.beaufortchamber.org/events/details/blood-drive-lowcountry-community-blood-center-06-20-2007-1433
END:VEVENT

END:VCALENDAR
