BEGIN:VCALENDAR
VERSION:2.0
PRODID:-//ChamberMaster//Event Calendar 2.0//EN
METHOD:PUBLISH
X-PUBLISHED-TTL:P3D
REFRESH-INTERVAL:P3D
CALSCALE:GREGORIAN
BEGIN:VEVENT
DTSTART;VALUE=DATE:20071119
DTEND;VALUE=DATE:20071120
TRANSP:TRANSPARENT
X-MICROSOFT-CDO-ALLDAYEVENT:TRUE
SUMMARY:Blood Drive - Lowcountry Community Blood Center
DESCRIPTION:For Callawassie Island residents
X-ALT-DESC;FMTTYPE=text/html:For Callawassie Island residents
LOCATION:Okatie
UID:e.1212.1945
SEQUENCE:3
DTSTAMP:20260424T221646Z
URL:https://business.beaufortchamber.org/events/details/blood-drive-lowcountry-community-blood-center-11-19-2007-1945
END:VEVENT

END:VCALENDAR
