BEGIN:VCALENDAR
VERSION:2.0
PRODID:-//ChamberMaster//Event Calendar 2.0//EN
METHOD:PUBLISH
X-PUBLISHED-TTL:P3D
REFRESH-INTERVAL:P3D
CALSCALE:GREGORIAN
BEGIN:VEVENT
DTSTART;VALUE=DATE:20080329
DTEND;VALUE=DATE:20080330
TRANSP:TRANSPARENT
X-MICROSOFT-CDO-ALLDAYEVENT:TRUE
SUMMARY:Book Festival Celebrating Self Published Authors of Beaufort County
DESCRIPTION:Arts Council of Beaufort County grant recipient.  "I Did It"
X-ALT-DESC;FMTTYPE=text/html:Arts Council of Beaufort County grant recipient.  "I Did It"
LOCATION:
UID:e.1212.2346
SEQUENCE:3
DTSTAMP:20260425T025046Z
URL:https://business.beaufortchamber.org/events/details/book-festival-celebrating-self-published-authors-of-beaufort-county-03-29-2008-2346
END:VEVENT

END:VCALENDAR
