BEGIN:VCALENDAR
VERSION:2.0
PRODID:-//ChamberMaster//Event Calendar 2.0//EN
METHOD:PUBLISH
X-PUBLISHED-TTL:P3D
REFRESH-INTERVAL:P3D
CALSCALE:GREGORIAN
BEGIN:VEVENT
DTSTART;VALUE=DATE:20081002
DTEND;VALUE=DATE:20081003
TRANSP:TRANSPARENT
X-MICROSOFT-CDO-ALLDAYEVENT:TRUE
SUMMARY:Boundary Street Stakeholders
DESCRIPTION:A public meeting for the Boundary Street Stakeholders.  The meeting will be held at  the Charles "Lind" Brown Community Activity Center\, formerly known as the Green Street Gym.  Contact Larry Meisner at (843) 379-1580 or larry.meisner@kimley-horn.com for more information.
X-ALT-DESC;FMTTYPE=text/html:A public meeting for the Boundary Street Stakeholders.  The meeting will be held at  the Charles "Lind" Brown Community Activity Center\, formerly known as the Green Street Gym.  Contact Larry Meisner at (843) 379-1580 or larry.meisner@kimley-horn.com for more information.
LOCATION:
UID:e.1212.2675
SEQUENCE:3
DTSTAMP:20260425T135029Z
URL:https://business.beaufortchamber.org/events/details/boundary-street-stakeholders-10-02-2008-2675
END:VEVENT

END:VCALENDAR
