BEGIN:VCALENDAR
VERSION:2.0
PRODID:-//ChamberMaster//Event Calendar 2.0//EN
METHOD:PUBLISH
X-PUBLISHED-TTL:P3D
REFRESH-INTERVAL:P3D
CALSCALE:GREGORIAN
BEGIN:VEVENT
DTSTART;VALUE=DATE:20081030
DTEND;VALUE=DATE:20081031
TRANSP:TRANSPARENT
X-MICROSOFT-CDO-ALLDAYEVENT:TRUE
SUMMARY:Breast Cancer Awareness Month: Fitter Specialist Presentation
DESCRIPTION:Join Beaufort Medical Equipment (located in Jean Ribaut Square) as they have a special instructor/fitter specialist in house for Breast Cancer Awareness month.  Enter drawing to win  the Door Prizes.  A Pampered weekend away @ The Chateau Elan Wine And Spa In Braselton\, Ga.  Refreshments will be served!
X-ALT-DESC;FMTTYPE=text/html:Join Beaufort Medical Equipment (located in Jean Ribaut Square) as they have a special instructor/fitter specialist in house for Breast Cancer Awareness month.  Enter drawing to win  the Door Prizes.  A Pampered weekend away @ The Chateau Elan Wine And Spa In Braselton\, Ga.  Refreshments will be served!
LOCATION:Beaufort
UID:e.1212.2738
SEQUENCE:3
DTSTAMP:20260425T140222Z
URL:https://business.beaufortchamber.org/events/details/breast-cancer-awareness-month-fitter-specialist-presentation-10-30-2008-2738
END:VEVENT

END:VCALENDAR
