BEGIN:VCALENDAR
VERSION:2.0
PRODID:-//ChamberMaster//Event Calendar 2.0//EN
METHOD:PUBLISH
X-PUBLISHED-TTL:P3D
REFRESH-INTERVAL:P3D
CALSCALE:GREGORIAN
BEGIN:VEVENT
DTSTART;VALUE=DATE:20080930
DTEND;VALUE=DATE:20081001
TRANSP:TRANSPARENT
X-MICROSOFT-CDO-ALLDAYEVENT:TRUE
SUMMARY:Business 4 Breakfast
DESCRIPTION:Rick Toomey\, CEO of Beaufort Memorial Hospital\, will present "The State of the Hospital:  Working to Improve the Health of the Community."\nPlease RSVP to Blakely Williams by Friday\, September 26\, 2008
X-ALT-DESC;FMTTYPE=text/html:Rick Toomey\, CEO of Beaufort Memorial Hospital\, will present "The State of the Hospital:  Working to Improve the Health of the Community."\nPlease RSVP to Blakely Williams by Friday\, September 26\, 2008\n
LOCATION:Beaufort
UID:e.1212.2613
SEQUENCE:3
DTSTAMP:20260425T133548Z
URL:https://business.beaufortchamber.org/events/details/business-4-breakfast-09-30-2008-2613
END:VEVENT

END:VCALENDAR
