BEGIN:VCALENDAR
VERSION:2.0
PRODID:-//ChamberMaster//Event Calendar 2.0//EN
METHOD:PUBLISH
X-PUBLISHED-TTL:P3D
REFRESH-INTERVAL:P3D
CALSCALE:GREGORIAN
BEGIN:VEVENT
DTSTART;VALUE=DATE:20071002
DTEND;VALUE=DATE:20071003
TRANSP:TRANSPARENT
X-MICROSOFT-CDO-ALLDAYEVENT:TRUE
SUMMARY:Business 4 Breakfast
DESCRIPTION:Guest speaker will be Tom Davis\, Governor Mark Sanford's Chief of Staff\; RSVP by September 27 to number below\; $10 for Chamber members\, $20 for non-members
X-ALT-DESC;FMTTYPE=text/html:Guest speaker will be Tom Davis\, Governor Mark Sanford's Chief of Staff\; RSVP by September 27 to number below\; <i>$10 for Chamber members\, $20 for non-members</i>
LOCATION:Beaufort
UID:e.1212.1768
SEQUENCE:3
DTSTAMP:20260424T195825Z
URL:https://business.beaufortchamber.org/events/details/business-4-breakfast-10-02-2007-1768
END:VEVENT

END:VCALENDAR
