BEGIN:VCALENDAR
VERSION:2.0
PRODID:-//ChamberMaster//Event Calendar 2.0//EN
METHOD:PUBLISH
X-PUBLISHED-TTL:P3D
REFRESH-INTERVAL:P3D
CALSCALE:GREGORIAN
BEGIN:VEVENT
DTSTART;VALUE=DATE:20081028
DTEND;VALUE=DATE:20081029
TRANSP:TRANSPARENT
X-MICROSOFT-CDO-ALLDAYEVENT:TRUE
SUMMARY:Business 4 Breakfast
DESCRIPTION:Dr. Thomas Leitzel\, president of Technical College of the Lowcountry\, will speak about the future of TCL and its relationship with the business community.\nPlease RSVP to Blakely Williams by Friday\, October 24\, 2008
X-ALT-DESC;FMTTYPE=text/html:Dr. Thomas Leitzel\, president of Technical College of the Lowcountry\, will speak about the future of TCL and its relationship with the business community.\nPlease RSVP to Blakely Williams by Friday\, October 24\, 2008\n
LOCATION:Beaufort
UID:e.1212.2699
SEQUENCE:3
DTSTAMP:20260425T134957Z
URL:https://business.beaufortchamber.org/events/details/business-4-breakfast-10-28-2008-2699
END:VEVENT

END:VCALENDAR
